BEGIN:VCALENDAR
VERSION:2.0
PRODID:-//Business Research Unit - ECPv6.14.0//NONSGML v1.0//EN
CALSCALE:GREGORIAN
METHOD:PUBLISH
X-ORIGINAL-URL:https://bru.iscte-iul.pt
X-WR-CALDESC:Events for Business Research Unit
REFRESH-INTERVAL;VALUE=DURATION:PT1H
X-Robots-Tag:noindex
X-PUBLISHED-TTL:PT1H
BEGIN:VTIMEZONE
TZID:Europe/Paris
BEGIN:DAYLIGHT
TZOFFSETFROM:+0100
TZOFFSETTO:+0200
TZNAME:CEST
DTSTART:20200329T010000
END:DAYLIGHT
BEGIN:STANDARD
TZOFFSETFROM:+0200
TZOFFSETTO:+0100
TZNAME:CET
DTSTART:20201025T010000
END:STANDARD
END:VTIMEZONE
BEGIN:VEVENT
DTSTART;TZID=Europe/Paris:20201217T143000
DTEND;TZID=Europe/Paris:20201217T170000
DTSTAMP:20260419T163120
CREATED:20201211T174533Z
LAST-MODIFIED:20201211T174806Z
UID:27755-1608215400-1608224400@bru.iscte-iul.pt
SUMMARY:Thesis Defense – PhD Management
DESCRIPTION:Title \nExperiential Marketing: Bridging the Gap Between Value Creation to Customers and Value Capture by Firms \nCandidate  \nJoão António Paixão \nEntrar na reunião Zoom: \nhttps://videoconf-colibri.zoom.us/j/88131246078 \nID da reunião: 881 3124 6078
URL:https://bru.iscte-iul.pt/event/thesis-defense-phd-management-2/
CATEGORIES:Thesis Defenses
ATTACH;FMTTYPE=image/png:https://bru.iscte-iul.pt/wp-content/uploads/phd-new.png
END:VEVENT
END:VCALENDAR