BEGIN:VCALENDAR
VERSION:2.0
PRODID:-//Business Research Unit - ECPv6.14.0//NONSGML v1.0//EN
CALSCALE:GREGORIAN
METHOD:PUBLISH
X-WR-CALNAME:Business Research Unit
X-ORIGINAL-URL:https://bru.iscte-iul.pt
X-WR-CALDESC:Events for Business Research Unit
REFRESH-INTERVAL;VALUE=DURATION:PT1H
X-Robots-Tag:noindex
X-PUBLISHED-TTL:PT1H
BEGIN:VTIMEZONE
TZID:Europe/Paris
BEGIN:DAYLIGHT
TZOFFSETFROM:+0100
TZOFFSETTO:+0200
TZNAME:CEST
DTSTART:20200329T010000
END:DAYLIGHT
BEGIN:STANDARD
TZOFFSETFROM:+0200
TZOFFSETTO:+0100
TZNAME:CET
DTSTART:20201025T010000
END:STANDARD
END:VTIMEZONE
BEGIN:VEVENT
DTSTART;TZID=Europe/Paris:20200630T103000
DTEND;TZID=Europe/Paris:20200630T130000
DTSTAMP:20260420T070351
CREATED:20200618T124210Z
LAST-MODIFIED:20200716T125831Z
UID:26483-1593513000-1593522000@bru.iscte-iul.pt
SUMMARY:Thesis Defense - Doctor of Business Administration
DESCRIPTION:Title \nCapacidades dinâmicas na indústria dos químicos para a construção – um estudo de caso no canal distribuição na Europa do Sul \nCandidate \n\n\n\n\nGonçalo Teixeira de Carvalho
URL:https://bru.iscte-iul.pt/event/thesis-defenses-doctor-of-business-administration/
CATEGORIES:Thesis Defenses
ATTACH;FMTTYPE=image/png:https://bru.iscte-iul.pt/wp-content/uploads/phd-new.png
END:VEVENT
END:VCALENDAR