BEGIN:VCALENDAR
VERSION:2.0
PRODID:-//Business Research Unit - ECPv6.14.0//NONSGML v1.0//EN
CALSCALE:GREGORIAN
METHOD:PUBLISH
X-ORIGINAL-URL:https://bru.iscte-iul.pt
X-WR-CALDESC:Events for Business Research Unit
REFRESH-INTERVAL;VALUE=DURATION:PT1H
X-Robots-Tag:noindex
X-PUBLISHED-TTL:PT1H
BEGIN:VTIMEZONE
TZID:Europe/Paris
BEGIN:DAYLIGHT
TZOFFSETFROM:+0100
TZOFFSETTO:+0200
TZNAME:CEST
DTSTART:20200329T010000
END:DAYLIGHT
BEGIN:STANDARD
TZOFFSETFROM:+0200
TZOFFSETTO:+0100
TZNAME:CET
DTSTART:20201025T010000
END:STANDARD
BEGIN:DAYLIGHT
TZOFFSETFROM:+0100
TZOFFSETTO:+0200
TZNAME:CEST
DTSTART:20210328T010000
END:DAYLIGHT
BEGIN:STANDARD
TZOFFSETFROM:+0200
TZOFFSETTO:+0100
TZNAME:CET
DTSTART:20211031T010000
END:STANDARD
END:VTIMEZONE
BEGIN:VEVENT
DTSTART;TZID=Europe/Paris:20210930T160000
DTEND;TZID=Europe/Paris:20210930T170000
DTSTAMP:20260422T004750
CREATED:20210922T145106Z
LAST-MODIFIED:20220120T151957Z
UID:28551-1633017600-1633021200@bru.iscte-iul.pt
SUMMARY:Research Seminar BRU-Iscte – Ana Isabel Lopes
DESCRIPTION:Speaker: Ana Isabel Lopes \nTitle: Towards the influence of CSR Committees on corporate performance \nZoom Password: 036770 \nONLINE
URL:https://bru.iscte-iul.pt/event/research-seminar-bru-iscte-ana-isabel-lopes/
LOCATION:Zoom
CATEGORIES:Research Seminar
ATTACH;FMTTYPE=image/jpeg:https://bru.iscte-iul.pt/wp-content/uploads/Seminars_30-september-2021.jpg
ORGANIZER;CN="Bru-Iscte":MAILTO:communication.bru@iscte.pt
END:VEVENT
BEGIN:VEVENT
DTSTART;TZID=Europe/Paris:20210930T150000
DTEND;TZID=Europe/Paris:20210930T160000
DTSTAMP:20260422T004750
CREATED:20210922T144905Z
LAST-MODIFIED:20210922T144905Z
UID:28549-1633014000-1633017600@bru.iscte-iul.pt
SUMMARY:Research Seminar BRU-Iscte - Teresa Eugénio
DESCRIPTION:Speaker: Teresa Eugénio \nTitle: Research in Social and environmental accounting: emerging topics \nONLINE
URL:https://bru.iscte-iul.pt/event/research-seminar-bru-iscte-teresa-eugenio/
LOCATION:Zoom
CATEGORIES:Research Seminar
ATTACH;FMTTYPE=image/jpeg:https://bru.iscte-iul.pt/wp-content/uploads/Seminars_30-september-2021.jpg
ORGANIZER;CN="Bru-Iscte":MAILTO:communication.bru@iscte.pt
END:VEVENT
BEGIN:VEVENT
DTSTART;TZID=Europe/Paris:20210415T140000
DTEND;TZID=Europe/Paris:20210415T150000
DTSTAMP:20260422T004750
CREATED:20210407T152250Z
LAST-MODIFIED:20210412T094702Z
UID:28142-1618495200-1618498800@bru.iscte-iul.pt
SUMMARY:Research Seminar BRU-Iscte - Jean M. Bartunek
DESCRIPTION:Speaker: Jean Bartunek  \nTitle: Bridging the research-practice gap: A workshop on Academic-practitioner relationships \nProfile:  \n\nDr. Jean Bartunek’s primary interests center around academic-practitioner relationships and organizational change. She is interested in multiple dimensions of links between theory\, research\, and practice\, including collaborative research\, how knowledge is shared across boundaries\, and relationships that transcend research. In addition\, she studies multiple dimensions of the processes of organizational change\, especially relationships between change agents and recipients\, and interactions within as across these groups. \n\nONLINE
URL:https://bru.iscte-iul.pt/event/research-seminar-bru-iscte-jean-m-bartunek/
CATEGORIES:Research Seminar
ATTACH;FMTTYPE=image/jpeg:https://bru.iscte-iul.pt/wp-content/uploads/Jean-Bartunek_15-april-2021.jpg
ORGANIZER;CN="Bru-Iscte":MAILTO:communication.bru@iscte.pt
END:VEVENT
BEGIN:VEVENT
DTSTART;TZID=Europe/Paris:20210319T150000
DTEND;TZID=Europe/Paris:20210319T160000
DTSTAMP:20260422T004750
CREATED:20210210T172907Z
LAST-MODIFIED:20210316T115023Z
UID:27954-1616166000-1616169600@bru.iscte-iul.pt
SUMMARY:Research Seminar BRU-Iscte - António Filipe Rodrigues
DESCRIPTION:Speaker: António Filipe Rodrigues – PhD Student Iscte \nTitle: Some implications of beliefs in free will for altruism \nJoin the meeting Zoom \nhttps://videoconf-colibri.zoom.us/j/81523383523?pwd=a1NielV1d0M3V0lTcExVdmszL3VuQT09 \nID for the meeting: 815 2338 3523 \nPassword:842986
URL:https://bru.iscte-iul.pt/event/research-seminar-bru-iscte-antonio-filipe-rodrigues/
CATEGORIES:Research Seminar
ATTACH;FMTTYPE=image/jpeg:https://bru.iscte-iul.pt/wp-content/uploads/Antonio-Filipe-Rodrigues-19-march-2021.jpg
ORGANIZER;CN="Bru-Iscte":MAILTO:communication.bru@iscte.pt
END:VEVENT
BEGIN:VEVENT
DTSTART;TZID=Europe/Paris:20210319T140000
DTEND;TZID=Europe/Paris:20210319T150000
DTSTAMP:20260422T004750
CREATED:20201014T081938Z
LAST-MODIFIED:20210315T174912Z
UID:27502-1616162400-1616166000@bru.iscte-iul.pt
SUMMARY:Research Seminar BRU-Iscte- Paulo Rodrigues
DESCRIPTION:Speaker: Paulo Rodrigues-Banco de Portugal \nTitle: LM-based Instrumental Variable Predictability Tests in Heteroskedastic Predictive Quantile Regressions \nJoin the meeting Zoom \nhttps://videoconf-colibri.zoom.us/j/81523383523?pwd=a1NielV1d0M3V0lTcExVdmszL3VuQT09 \nID for the meeting: 815 2338 3523 \nPassword:842986
URL:https://bru.iscte-iul.pt/event/research-seminar-bru-iscte-paulo-rodrigues/
CATEGORIES:Research Seminar
ATTACH;FMTTYPE=image/jpeg:https://bru.iscte-iul.pt/wp-content/uploads/Paulo-Rodrigues_19-March-2021.jpg
ORGANIZER;CN="Bru-Iscte":MAILTO:communication.bru@iscte.pt
END:VEVENT
BEGIN:VEVENT
DTSTART;TZID=Europe/Paris:20210204T153000
DTEND;TZID=Europe/Paris:20210204T163000
DTSTAMP:20260422T004750
CREATED:20200925T095817Z
LAST-MODIFIED:20210201T102017Z
UID:27445-1612452600-1612456200@bru.iscte-iul.pt
SUMMARY:Research Seminar BRU-Iscte- Ana Paula Barbosa Póvoa
DESCRIPTION:Title \nDesign and Planning Sustainable Supply Chains \nSpeaker  \nAna Paula Barbosa Póvoa \nProfessora  Catedrática em Operações e Logística \nDepartamento de Engenharia e Gestão \nInstituto Superior Técnico\, Universidade de Lisboa \nDepartment of Engineering \nJoin the meeting Zoom \nhttps://videoconf-colibri.zoom.us/j/92999747961?pwd=MHZUcU1TL3oyaUE2a2cvcThXWkJqdz09 \nID for the meeting: 993 8627 5549 \nPassword:222013
URL:https://bru.iscte-iul.pt/event/research-seminar-bru-iscte-ana-paula-barbosa-povoa/
CATEGORIES:Research Seminar
ATTACH;FMTTYPE=image/jpeg:https://bru.iscte-iul.pt/wp-content/uploads/Ana-Paula-Povoa-4-february-2021.jpg
ORGANIZER;CN="Bru-Iscte":MAILTO:communication.bru@iscte.pt
END:VEVENT
BEGIN:VEVENT
DTSTART;TZID=Europe/Paris:20210204T143000
DTEND;TZID=Europe/Paris:20210204T153000
DTSTAMP:20260422T004750
CREATED:20200925T094838Z
LAST-MODIFIED:20210201T102044Z
UID:27443-1612449000-1612452600@bru.iscte-iul.pt
SUMMARY:Research Seminar BRU-Iscte- Manfredi Bruccoleri
DESCRIPTION:Title \nImpact of organisational factors on the healthcare process’s decision-making \nSubtitle: Do overtime and overcrowding influence Defensive Medicine behaviour? \nSpeaker  \nManfredi Bruccoleri \nFull Professor of Business Process and Operations Management\nProgram Director of BSc and MSc in Management Engineering\nDepartment of Engineering\nUniversity of Palermo \nJoin the meeting Zoom \nhttps://videoconf-colibri.zoom.us/j/92999747961?pwd=MHZUcU1TL3oyaUE2a2cvcThXWkJqdz09 \nID for the meeting: 993 8627 5549 \nPassword:222013
URL:https://bru.iscte-iul.pt/event/research-seminar-bru-iscte-manfredi-bruccoleri/
CATEGORIES:Research Seminar
ATTACH;FMTTYPE=image/jpeg:https://bru.iscte-iul.pt/wp-content/uploads/Manfredi-Bruccoleri-4-february-2021.jpg
ORGANIZER;CN="Bru-Iscte":MAILTO:communication.bru@iscte.pt
END:VEVENT
BEGIN:VEVENT
DTSTART;TZID=Europe/Paris:20210127T140000
DTEND;TZID=Europe/Paris:20210127T160000
DTSTAMP:20260422T004750
CREATED:20210111T164736Z
LAST-MODIFIED:20210111T164847Z
UID:27847-1611756000-1611763200@bru.iscte-iul.pt
SUMMARY:Research Seminar BRU-Iscte- Luciana Salles Barbosa
DESCRIPTION:Title \nAuctions and Real Options: Bidding for Feed-in tariff \nSpeaker  \nLuciana Salles Barbosa \nAssistant Professor \nUniversidade Autónoma de Lisboa \n\n\n\n\n\n\n\n\n\n\n\n\n\n\n\n\n\n\n\nJoin the meeting Zoom \nhttps://videoconf-colibri.zoom.us/j/92999747961?pwd=MHZUcU1TL3oyaUE2a2cvcThXWkJqdz09 \nID for the meeting: 842 0357 4918 \nPassword:595443
URL:https://bru.iscte-iul.pt/event/research-seminar-bru-iscte-luciana-salles-barbosa/
CATEGORIES:Research Seminar
ATTACH;FMTTYPE=image/jpeg:https://bru.iscte-iul.pt/wp-content/uploads/Luciana-Salles-Barbosa_27-January-2021.jpg
ORGANIZER;CN="Bru-Iscte":MAILTO:communication.bru@iscte.pt
END:VEVENT
BEGIN:VEVENT
DTSTART;TZID=Europe/Paris:20201113T110000
DTEND;TZID=Europe/Paris:20201113T120000
DTSTAMP:20260422T004750
CREATED:20201014T082905Z
LAST-MODIFIED:20201015T081647Z
UID:27505-1605265200-1605268800@bru.iscte-iul.pt
SUMMARY:Research Seminar Bru- João Miguel Lopes
DESCRIPTION:Title \nInflow volatility\, reservoir capacity and market power in hydro generation in Portugal between 2007 and 2017 \nSpeaker  \nJoão Miguel Lopes \nPhD Student Iscte \nJoin the meeting Zoom \nhttps://videoconf-colibri.zoom.us/j/94104255794?pwd=WnBTWXlrTGZBTzN5WHh6Uk9JWk5pQT09 \nID for the meeting: 941 0425 5794 \nPassword: 356447
URL:https://bru.iscte-iul.pt/event/research-seminar-bru-joao-miguel-lopes/
CATEGORIES:Research Seminar
ATTACH;FMTTYPE=image/jpeg:https://bru.iscte-iul.pt/wp-content/uploads/seminário-jão-miguel-lopes-13-nov-2020.jpg
ORGANIZER;CN="Bru-Iscte":MAILTO:communication.bru@iscte.pt
END:VEVENT
BEGIN:VEVENT
DTSTART;TZID=Europe/Paris:20201113T100000
DTEND;TZID=Europe/Paris:20201113T100000
DTSTAMP:20260422T004750
CREATED:20200904T100051Z
LAST-MODIFIED:20201112T135115Z
UID:27398-1605261600-1605261600@bru.iscte-iul.pt
SUMMARY:Research Seminar BRU-Iscte - Armando Pires
DESCRIPTION:Title \nMeasuring spillover effects from an entrepreneurship program: Evidence from a field experiment in Tanzania \nLars Ivar Oppedal Berge \nDepartment of Accounting\, Auditing and Law\, Norwegian School of Economics (NHH)\, Bergen\, Norway \nArmando José Garcia Pires \nCentre for Applied Research at NHH (SNF)\, Norwegian School of Economics (NHH)\, Bergen\, Norway \nSpeaker  \nArmando José Garcia Pires \nJoin the meeting Zoom \nhttps://videoconf-colibri.zoom.us/j/92999747961?pwd=MHZUcU1TL3oyaUE2a2cvcThXWkJqdz09 \nID for the meeting: 941 0425 5794 \nPassword: 356447
URL:https://bru.iscte-iul.pt/event/research-seminar-bru-iscte-armando-pires/
CATEGORIES:Research Seminar
ATTACH;FMTTYPE=image/png:https://bru.iscte-iul.pt/wp-content/uploads/Captura-de-ecrã-2020-09-04-às-11.12.29.png
ORGANIZER;CN="Bru-Iscte":MAILTO:communication.bru@iscte.pt
END:VEVENT
BEGIN:VEVENT
DTSTART;TZID=Europe/Paris:20201020T160000
DTEND;TZID=Europe/Paris:20201020T170000
DTSTAMP:20260422T004750
CREATED:20200929T130819Z
LAST-MODIFIED:20201015T072614Z
UID:27456-1603209600-1603213200@bru.iscte-iul.pt
SUMMARY:Research Seminar BRU-Iscte-Timothy Jung
DESCRIPTION:Title \nThe future of augmented reality and virtual reality research \nSpeaker  \nTimothy Jung \nManchester Metropolitan University I Faculty of Business & Law \nJoin the meeting Zoom \nhttps://videoconf-colibri.zoom.us/j/92999747961?pwd=MHZUcU1TL3oyaUE2a2cvcThXWkJqdz09 \nID for the meeting: 863 2007 7925 \nPassword:307444
URL:https://bru.iscte-iul.pt/event/research-seminar-bru-iscte-timothy-jung/
CATEGORIES:Research Seminar
ATTACH;FMTTYPE=image/jpeg:https://bru.iscte-iul.pt/wp-content/uploads/Timothy-Jung_-20-october-2020.jpg
ORGANIZER;CN="Bru-Iscte":MAILTO:communication.bru@iscte.pt
END:VEVENT
BEGIN:VEVENT
DTSTART;TZID=Europe/Paris:20200925T143000
DTEND;TZID=Europe/Paris:20200925T160000
DTSTAMP:20260422T004750
CREATED:20200720T084534Z
LAST-MODIFIED:20200720T113047Z
UID:27199-1601044200-1601049600@bru.iscte-iul.pt
SUMMARY:Research Seminar BRU-Iscte - Saffet Uygur
DESCRIPTION:Title \nWhy Does Fraud Occur in the Not-For-Profit Sector? A Study of Charities in England and Wales \nSpeaker  \nSaffet Uygur \nJoin the meeting Zoom \nhttps://videoconf-colibri.zoom.us/j/92999747961?pwd=MHZUcU1TL3oyaUE2a2cvcThXWkJqdz09 \nID for the meeting: 929 9974 7961 \nPassword: 080225
URL:https://bru.iscte-iul.pt/event/research-seminar-bru-saffet-uygur/
CATEGORIES:Research Seminar
ATTACH;FMTTYPE=image/png:https://bru.iscte-iul.pt/wp-content/uploads/seminário-25-setembro-.png
ORGANIZER;CN="Bru-Iscte":MAILTO:communication.bru@iscte.pt
END:VEVENT
BEGIN:VEVENT
DTSTART;TZID=Europe/Paris:20200306T140000
DTEND;TZID=Europe/Paris:20200306T160000
DTSTAMP:20260422T004750
CREATED:20200618T095627Z
LAST-MODIFIED:20200710T140120Z
UID:26458-1583503200-1583510400@bru.iscte-iul.pt
SUMMARY:Research Seminar BRU- Strategy Day
DESCRIPTION:Speaker:  \nJuan Vicente Fruet Cardozo \nUniversidade de Córdova \nInternational economic organizations: IMF and WB. Their roles today 
URL:https://bru.iscte-iul.pt/event/research-seminar-bru-strategic-day/
LOCATION:Auditorium Paquete de Oliveira
CATEGORIES:Research Seminar
ATTACH;FMTTYPE=image/png:https://bru.iscte-iul.pt/wp-content/uploads/seminário-6-março.png
ORGANIZER;CN="Bru-Iscte":MAILTO:communication.bru@iscte.pt
END:VEVENT
BEGIN:VEVENT
DTSTART;TZID=Europe/Paris:20200305T140000
DTEND;TZID=Europe/Paris:20200305T163000
DTSTAMP:20260422T004750
CREATED:20200618T104532Z
LAST-MODIFIED:20200618T104532Z
UID:26468-1583416800-1583425800@bru.iscte-iul.pt
SUMMARY:Research Seminars BRU- Accounting Day
DESCRIPTION:Speakers:  \nClayton Robson Moreira da Silva \nPhD Student – Federal University of Ceará\, Brasil \nPublic Governance\, Public Sector Efficiency and Socioeconomic Development in Nations \nMônica Ferreira  \nPhD Student- Faculdade de Ciências Contábeis (FACIC)\, Universidade Federal de Uberlândia (UFU)\, Brasil \nController Profile: A Qualitative Analysis in the Light of the Upper Echelons Theory   \nPaula Alexandra Rocha Gomes dos Santos   \nISCAL \nSustainability Assessment of Portuguese Local Governments (2009 to 2017): Accounting Information and Public Governance 
URL:https://bru.iscte-iul.pt/event/research-seminars-bru-accounting-day/
LOCATION:Auditorium Paquete de Oliveira
CATEGORIES:Research Seminar
ATTACH;FMTTYPE=image/png:https://bru.iscte-iul.pt/wp-content/uploads/seminar-5-march.png
END:VEVENT
END:VCALENDAR