BEGIN:VCALENDAR
VERSION:2.0
PRODID:-//Business Research Unit - ECPv6.14.0//NONSGML v1.0//EN
CALSCALE:GREGORIAN
METHOD:PUBLISH
X-WR-CALNAME:Business Research Unit
X-ORIGINAL-URL:https://bru.iscte-iul.pt
X-WR-CALDESC:Events for Business Research Unit
REFRESH-INTERVAL;VALUE=DURATION:PT1H
X-Robots-Tag:noindex
X-PUBLISHED-TTL:PT1H
BEGIN:VTIMEZONE
TZID:Europe/Paris
BEGIN:DAYLIGHT
TZOFFSETFROM:+0100
TZOFFSETTO:+0200
TZNAME:CEST
DTSTART:20210328T010000
END:DAYLIGHT
BEGIN:STANDARD
TZOFFSETFROM:+0200
TZOFFSETTO:+0100
TZNAME:CET
DTSTART:20211031T010000
END:STANDARD
END:VTIMEZONE
BEGIN:VEVENT
DTSTART;TZID=Europe/Paris:20211019T140000
DTEND;TZID=Europe/Paris:20211019T153000
DTSTAMP:20260420T124108
CREATED:20211015T101302Z
LAST-MODIFIED:20211015T101302Z
UID:28622-1634652000-1634657400@bru.iscte-iul.pt
SUMMARY:Research Seminar BRU-Iscte- Michael Morley
DESCRIPTION:Speaker: Michael Morley \nTitle: Editorial Observations and Insights on Publishing Management Scholarship and Serving as a Reviewer \nONLINE
URL:https://bru.iscte-iul.pt/event/research-seminar-bru-iscte-michael-morley/
LOCATION:Zoom
CATEGORIES:Research Seminar
ATTACH;FMTTYPE=image/jpeg:https://bru.iscte-iul.pt/wp-content/uploads/Michael-Morley_19-october-2021.jpg
ORGANIZER;CN="Bru-Iscte":MAILTO:communication.bru@iscte.pt
END:VEVENT
END:VCALENDAR